BEGIN:VCALENDAR
PRODID:-//Microsoft Corporation//Outlook 16.0 MIMEDIR//EN
VERSION:2.0
METHOD:REQUEST
X-MS-OLK-FORCEINSPECTOROPEN:TRUE
BEGIN:VTIMEZONE
TZID:Eastern Standard Time
BEGIN:STANDARD
DTSTART:16011104T020000
RRULE:FREQ=YEARLY;BYDAY=1SU;BYMONTH=11
TZOFFSETFROM:-0400
TZOFFSETTO:-0500
END:STANDARD
BEGIN:DAYLIGHT
DTSTART:16010311T020000
RRULE:FREQ=YEARLY;BYDAY=2SU;BYMONTH=3
TZOFFSETFROM:-0500
TZOFFSETTO:-0400
END:DAYLIGHT
END:VTIMEZONE
BEGIN:VEVENT
ATTENDEE;CN="Laura Pursley";ROLE=OPT-PARTICIPANT;RSVP=TRUE:mailto:lpursley@
	gocloudwave.com
ATTENDEE;CN="Jim Zenz";ROLE=OPT-PARTICIPANT;RSVP=TRUE:mailto:jzenz@gocloudw
	ave.com
ATTENDEE;CN="Jenner Barrington-Ward";ROLE=OPT-PARTICIPANT;RSVP=TRUE:mailto:
	jbarrington-ward@gocloudwave.com
ATTENDEE;CN="Lillian Davis";RSVP=TRUE:mailto:ldavis@gocloudwave.com
ATTENDEE;CN=Jennifer.bowers@dedalus.com;RSVP=TRUE:mailto:Jennifer.bowers@de
	dalus.com
ATTENDEE;CN=robin.wiener@dedalus.com;RSVP=TRUE:mailto:robin.wiener@dedalus.
	com
ATTENDEE;CN="Christine Mellyn";ROLE=OPT-PARTICIPANT;RSVP=TRUE:mailto:cmelly
	n@gocloudwave.com
ATTENDEE;CN="Bryan Blood";ROLE=OPT-PARTICIPANT;RSVP=TRUE:mailto:bblood@gocl
	oudwave.com
ATTENDEE;CN="Robin Gordon";ROLE=OPT-PARTICIPANT;RSVP=TRUE:mailto:rgordon@go
	cloudwave.com
ATTENDEE;CN="John Gomez";ROLE=OPT-PARTICIPANT;RSVP=TRUE:mailto:jgomez@goclo
	udwave.com
ATTENDEE;CN="Damian David";ROLE=OPT-PARTICIPANT;RSVP=TRUE:mailto:ddavid@goc
	loudwave.com
ATTENDEE;CN="Rick Corwon";ROLE=OPT-PARTICIPANT;RSVP=TRUE:mailto:rcorwon@goc
	loudwave.com
ATTENDEE;CN="Matthew Donahue";ROLE=OPT-PARTICIPANT;RSVP=TRUE:mailto:mdonahu
	e@gocloudwave.com
ATTENDEE;CN="Timothy Champagne";ROLE=OPT-PARTICIPANT;RSVP=TRUE:mailto:tcham
	pagne@gocloudwave.com
ATTENDEE;CN="John Smith";ROLE=OPT-PARTICIPANT;RSVP=TRUE:mailto:jsmith@goclo
	udwave.com
ATTENDEE;CN="Mike W. Donahue";ROLE=OPT-PARTICIPANT;RSVP=TRUE:mailto:mwdonah
	ue@gocloudwave.com
ATTENDEE;CN="Kelli Watson";ROLE=OPT-PARTICIPANT;RSVP=TRUE:mailto:kwatson@go
	cloudwave.com
ATTENDEE;CN=CloudWaveatHIMSS;RSVP=TRUE:mailto:HIMSS@parkplace.onmicrosoft.c
	om
ATTENDEE;CN="Erik Littlejohn";ROLE=OPT-PARTICIPANT;RSVP=TRUE:mailto:elittle
	john@gocloudwave.com
ATTENDEE;CN="Tim Quigley";ROLE=OPT-PARTICIPANT;RSVP=TRUE:mailto:tquigley@go
	cloudwave.com
ATTENDEE;CN="Mark Middleton";ROLE=OPT-PARTICIPANT;RSVP=TRUE:mailto:mmiddlet
	on@gocloudwave.com
ATTENDEE;CN="Alex Wong";ROLE=OPT-PARTICIPANT;RSVP=TRUE:mailto:awong@gocloud
	wave.com
CLASS:PUBLIC
CREATED:20240221T182706Z
DESCRIPTION:CloudWave\, Dell Technologies\, & Dedalus – Better Together\n
	\n \n\nSpeakers:            Robin Wiener\, Managing Director\, Enterprise 
	Data Solutions\, Dedalus\n\nJennifer Bowers\, Managing Director\, Clinical
	 Strategy\, Dedalus\n\n \n\nThree of the world’s leading technology comp
	anies\, two solely focused on healthcare\, combine industry-leading expert
	ise to bring innovative solutions to North American hospitals. This collab
	oration introduces the power of the Dedalus Connected Care ecosystem to Cl
	oudWave customers to unlock the treasure chest of your hospitals’ inform
	ation in three key strategic areas -\n\n•             Trials for Care: R
	evolutionize the clinical trial screening and enrolment process with seaml
	ess automation\, benefiting both patients and the hospital's financial wel
	l-being\n\n•             Hospital Command Center: Optimize workflows\, m
	aximize capacity\, and enhance coordination to elevate patient outcomes\, 
	staff satisfaction\, and financial sustainability. A cutting-edge solution
	 that redefines operational visibility and efficiency\n\n•             D
	igital Content Management: Digitize everything and harness the power of AI
	 to make sure the right people have the right content at the right time ..
	. all the time\n\nEmbrace the future of healthcare innovation with CloudWa
	ve\, Dell\, and Dedalus – where expertise converges for a transformative
	 impact on the healthcare landscape. \n\n \n\nIf you have questions please
	 contact:\n\nChristine Mellyn\, Vice President of Marketing\n\ncmellyn@goc
	loudwave.com\n\n508-251-8899\n\n \n
DTEND;TZID="Eastern Standard Time":20240312T143000
DTSTAMP:20240208T210902Z
DTSTART;TZID="Eastern Standard Time":20240312T140000
LAST-MODIFIED:20240221T182706Z
LOCATION:booth 2781
ORGANIZER;CN=CloudWaveatHIMSS:mailto:HIMSS@parkplace.onmicrosoft.com
PRIORITY:5
RECURRENCE-ID;TZID="Eastern Standard Time":20240312T140000
SEQUENCE:2
SUMMARY;LANGUAGE=en-us:CloudWave\, Dell Technologies\, & Dedalus – Better
	 Together/*
TRANSP:OPAQUE
UID:040000008200E00074C5B7101A82E00800000000529CFE35A35ADA01000000000000000
	01000000027063642C5905147AC1E110E088EF417
X-ALT-DESC;FMTTYPE=text/html:<html>\n<head>\n\n</head>\n<body>\n<p><strong>
	CloudWave\, Dell Technologies\, &amp\; Dedalus – Better Together</strong
	></p>\n<p>&nbsp\;</p>\n<p><i>Speakers:</i> &nbsp\; &nbsp\;&nbsp\;&nbsp\;&n
	bsp\;&nbsp\;&nbsp\;&nbsp\;&nbsp\; <i>Robin Wiener\, Managing Director\, En
	terprise Data Solutions\, Dedalus</i></p>\n<p style="margin-left:.5in\;"><
	i>Jennifer Bowers\, Managing Director\, Clinical Strategy\, Dedalus</i></p
	>\n<p>&nbsp\;</p>\n<p>Three of the world’s leading technology companies\
	, two solely focused on healthcare\, combine industry-leading expertise to
	 bring innovative solutions to North American hospitals. This collaboratio
	n introduces the power of the Dedalus Connected Care ecosystem\n to CloudW
	ave customers to unlock the treasure chest of your hospitals’ informatio
	n in three key strategic areas -</p>\n<p>•&nbsp\;&nbsp\;&nbsp\;&nbsp\;&n
	bsp\;&nbsp\;&nbsp\;&nbsp\;&nbsp\;&nbsp\;&nbsp\;&nbsp\; <strong>Trials for 
	Care:</strong> Revolutionize the clinical trial screening and enrolment pr
	ocess with seamless automation\, benefiting both patients and the hospital
	's financial well-being</p>\n<p>•&nbsp\;&nbsp\;&nbsp\;&nbsp\;&nbsp\;&nbs
	p\;&nbsp\;&nbsp\;&nbsp\;&nbsp\;&nbsp\;&nbsp\; <strong>Hospital Command Cen
	ter:</strong> Optimize workflows\, maximize capacity\, and enhance coordin
	ation to elevate patient outcomes\, staff satisfaction\, and financial sus
	tainability. A cutting-edge solution that redefines operational visibility
	\n and efficiency</p>\n<p>•&nbsp\;&nbsp\;&nbsp\;&nbsp\;&nbsp\;&nbsp\;&nb
	sp\;&nbsp\;&nbsp\;&nbsp\;&nbsp\;&nbsp\; <strong>Digital Content Management
	:</strong> Digitize everything and harness the power of AI to make sure th
	e right people have the right content at the right time ... all the time</
	p>\n<p>Embrace the future of healthcare innovation with CloudWave\, Dell\,
	 and Dedalus – where expertise converges for a transformative impact on 
	the healthcare landscape.&nbsp\;</p>\n<div>\n<p>&nbsp\;</p>\n<p>If you hav
	e questions please contact:</p>\n<p>Christine Mellyn\, Vice President of M
	arketing</p>\n<p>cmellyn@gocloudwave.com</p>\n<p>508-251-8899</p>\n</div>\
	n<div>&nbsp\;</div>\n</body>\n</html>\n
X-MICROSOFT-CDO-BUSYSTATUS:BUSY
X-MICROSOFT-CDO-IMPORTANCE:1
X-MS-OLK-APPTLASTSEQUENCE:2
X-MS-OLK-APPTSEQTIME:20240208T210902Z
BEGIN:VALARM
TRIGGER:-PT15M
ACTION:DISPLAY
DESCRIPTION:Reminder
END:VALARM
END:VEVENT
END:VCALENDAR
