BEGIN:VCALENDAR
PRODID:-//Microsoft Corporation//Outlook 16.0 MIMEDIR//EN
VERSION:2.0
METHOD:REQUEST
X-MS-OLK-FORCEINSPECTOROPEN:TRUE
BEGIN:VTIMEZONE
TZID:Eastern Standard Time
BEGIN:STANDARD
DTSTART:16011104T020000
RRULE:FREQ=YEARLY;BYDAY=1SU;BYMONTH=11
TZOFFSETFROM:-0400
TZOFFSETTO:-0500
END:STANDARD
BEGIN:DAYLIGHT
DTSTART:16010311T020000
RRULE:FREQ=YEARLY;BYDAY=2SU;BYMONTH=3
TZOFFSETFROM:-0500
TZOFFSETTO:-0400
END:DAYLIGHT
END:VTIMEZONE
BEGIN:VEVENT
ATTENDEE;CN="Lillian Davis";RSVP=TRUE:mailto:ldavis@gocloudwave.com
ATTENDEE;CN="Christine Mellyn";ROLE=OPT-PARTICIPANT;RSVP=TRUE:mailto:cmelly
	n@gocloudwave.com
ATTENDEE;CN="Mark Middleton";ROLE=OPT-PARTICIPANT;RSVP=TRUE:mailto:mmiddlet
	on@gocloudwave.com
ATTENDEE;CN="Matthew Donahue";ROLE=OPT-PARTICIPANT;RSVP=TRUE:mailto:mdonahu
	e@gocloudwave.com
ATTENDEE;CN="Timothy Champagne";ROLE=OPT-PARTICIPANT;RSVP=TRUE:mailto:tcham
	pagne@gocloudwave.com
ATTENDEE;CN="Laura Pursley";ROLE=OPT-PARTICIPANT;RSVP=TRUE:mailto:lpursley@
	gocloudwave.com
ATTENDEE;CN="Mike W. Donahue";ROLE=OPT-PARTICIPANT;RSVP=TRUE:mailto:mwdonah
	ue@gocloudwave.com
ATTENDEE;CN="Robin Gordon";ROLE=OPT-PARTICIPANT;RSVP=TRUE:mailto:rgordon@go
	cloudwave.com
ATTENDEE;CN=CloudWaveatHIMSS;RSVP=TRUE:mailto:HIMSS@parkplace.onmicrosoft.c
	om
ATTENDEE;CN="Erik Littlejohn";ROLE=OPT-PARTICIPANT;RSVP=TRUE:mailto:elittle
	john@gocloudwave.com
ATTENDEE;CN="Jenner Barrington-Ward";ROLE=OPT-PARTICIPANT;RSVP=TRUE:mailto:
	jbarrington-ward@gocloudwave.com
CLASS:PUBLIC
CREATED:20240221T182804Z
DESCRIPTION:New Strategies for Fortifying Resilience Against Cyberattacks i
	n Healthcare\n\n \n\nSpeakers: Steve Matheson\, VP Product and Sales\, Bri
	dgeHead Software\n\n                 Bobby Edwards\, Principal Solutions C
	onsultant\, BridgeHead Software\n\n                 Jacob Wheeler\, Senior
	 Solutions Architect\, CloudWave\n\n \n\nJoin CloudWave and BridgeHead Sof
	tware to learn strategies to mitigate and prevent a cyber attack.  Learn h
	ow to reduce the threat to your environment by decreasing your attack surf
	ace while ensuring clinical continuity and application recovery.  We’ll 
	discuss understanding your cybersecurity maturity to prioritize investment
	s and manage risk\, leverage managed cloud services for immutable backups 
	and data recovery\, consider managed security services to monitor your IT 
	environment around the clock\, and perform tabletop exercises to improve y
	our security stance and prevent future attacks.\n\n \n\nIf you have questi
	ons\, please contact:\n\nChristine Mellyn\, Vice President of Marketing\n\
	ncmellyn@gocloudwave.com\n\n508-251-8899\n\n \n\n \n\n \n
DTEND;TZID="Eastern Standard Time":20240312T151500
DTSTAMP:20240213T202524Z
DTSTART;TZID="Eastern Standard Time":20240312T150000
LAST-MODIFIED:20240221T182804Z
LOCATION:Booth 2781
ORGANIZER;CN=CloudWaveatHIMSS:mailto:HIMSS@parkplace.onmicrosoft.com
PRIORITY:5
SEQUENCE:2
SUMMARY;LANGUAGE=en-us:New Strategies for Fortifying Resilience Against Cyb
	erattacks in Healthcare
TRANSP:OPAQUE
UID:040000008200E00074C5B7101A82E008000000005B9B6403A95EDA01000000000000000
	010000000D74DC5525D35D948B30D942F4B0F91BC
X-ALT-DESC;FMTTYPE=text/html:<html>\n<head>\n\n</head>\n<body>\n<p><strong>
	New Strategies for Fortifying Resilience Against Cyberattacks in Healthcar
	e</strong></p>\n<p>&nbsp\;</p>\n<p><i><strong>Speakers:&nbsp\;</strong></i
	>Steve Matheson\, VP Product and Sales\, BridgeHead Software</p>\n<p>&nbsp
	\; &nbsp\; &nbsp\; &nbsp\; &nbsp\; &nbsp\; &nbsp\; &nbsp\; &nbsp\;Bobby Ed
	wards\, Principal Solutions Consultant\, BridgeHead Software</p>\n<p>&nbsp
	\; &nbsp\; &nbsp\; &nbsp\; &nbsp\; &nbsp\; &nbsp\; &nbsp\; &nbsp\;Jacob Wh
	eeler\, Senior Solutions Architect\, CloudWave</p>\n<p>&nbsp\;</p>\n<p>Joi
	n CloudWave and BridgeHead Software to learn strategies to mitigate and pr
	event a cyber attack.&nbsp\; Learn how to reduce the threat to your enviro
	nment by decreasing your attack surface while ensuring clinical continuity
	 and application recovery.&nbsp\; We’ll discuss\n understanding your cyb
	ersecurity maturity to prioritize investments and manage risk\, leverage m
	anaged cloud services for immutable backups and data recovery\, consider m
	anaged security services to monitor your IT environment around the clock\,
	 and perform tabletop\n exercises to improve your security stance and prev
	ent future attacks.</p>\n<p>&nbsp\;</p>\n<p>If you have questions\, please
	 contact:</p>\n<p style="margin-left:0\;">Christine Mellyn\, Vice Presiden
	t of Marketing</p>\n<p style="margin-left:0\;">cmellyn@gocloudwave.com</p>
	\n<p>508-251-8899</p>\n<div>\n<p>&nbsp\;</p>\n<p>&nbsp\;</p>\n</div>\n<div
	>&nbsp\;</div>\n</body>\n</html>\n
X-MICROSOFT-CDO-BUSYSTATUS:BUSY
X-MICROSOFT-CDO-IMPORTANCE:1
X-MS-OLK-APPTLASTSEQUENCE:2
X-MS-OLK-APPTSEQTIME:20240213T202524Z
BEGIN:VALARM
TRIGGER:-PT15M
ACTION:DISPLAY
DESCRIPTION:Reminder
END:VALARM
END:VEVENT
END:VCALENDAR
