BEGIN:VCALENDAR
PRODID:-//Microsoft Corporation//Outlook 16.0 MIMEDIR//EN
VERSION:2.0
METHOD:REQUEST
X-MS-OLK-FORCEINSPECTOROPEN:TRUE
BEGIN:VTIMEZONE
TZID:Eastern Standard Time
BEGIN:STANDARD
DTSTART:16011104T020000
RRULE:FREQ=YEARLY;BYDAY=1SU;BYMONTH=11
TZOFFSETFROM:-0400
TZOFFSETTO:-0500
END:STANDARD
BEGIN:DAYLIGHT
DTSTART:16010311T020000
RRULE:FREQ=YEARLY;BYDAY=2SU;BYMONTH=3
TZOFFSETFROM:-0500
TZOFFSETTO:-0400
END:DAYLIGHT
END:VTIMEZONE
BEGIN:VEVENT
ATTENDEE;CN="Lillian Davis";RSVP=TRUE:mailto:ldavis@gocloudwave.com
ATTENDEE;CN="Jacob Wheeler";RSVP=TRUE:mailto:jwheeler@gocloudwave.com
ATTENDEE;CN="Andrew Donaldson";RSVP=TRUE:mailto:adonaldson@gocloudwave.com
ATTENDEE;CN="Christine Mellyn";ROLE=OPT-PARTICIPANT;RSVP=TRUE:mailto:cmelly
	n@gocloudwave.com
ATTENDEE;CN="Rick Corwon";ROLE=OPT-PARTICIPANT;RSVP=TRUE:mailto:rcorwon@goc
	loudwave.com
ATTENDEE;CN="Timothy Champagne";ROLE=OPT-PARTICIPANT;RSVP=TRUE:mailto:tcham
	pagne@gocloudwave.com
ATTENDEE;CN="Amanda Lyons";ROLE=OPT-PARTICIPANT;RSVP=TRUE:mailto:alyons@goc
	loudwave.com
ATTENDEE;CN="John Smith";ROLE=OPT-PARTICIPANT;RSVP=TRUE:mailto:jsmith@goclo
	udwave.com
ATTENDEE;CN="Erik Littlejohn";ROLE=OPT-PARTICIPANT;RSVP=TRUE:mailto:elittle
	john@gocloudwave.com
ATTENDEE;CN="Matthew Donahue";ROLE=OPT-PARTICIPANT;RSVP=TRUE:mailto:mdonahu
	e@gocloudwave.com
ATTENDEE;CN="Laura Pursley";ROLE=OPT-PARTICIPANT;RSVP=TRUE:mailto:lpursley@
	gocloudwave.com
ATTENDEE;CN="Bryan Blood";ROLE=OPT-PARTICIPANT;RSVP=TRUE:mailto:bblood@gocl
	oudwave.com
ATTENDEE;CN="Kelli Watson";ROLE=OPT-PARTICIPANT;RSVP=TRUE:mailto:kwatson@go
	cloudwave.com
ATTENDEE;CN="Robin Gordon";ROLE=OPT-PARTICIPANT;RSVP=TRUE:mailto:rgordon@go
	cloudwave.com
ATTENDEE;CN="Jenner Barrington-Ward";ROLE=OPT-PARTICIPANT;RSVP=TRUE:mailto:
	jbarrington-ward@gocloudwave.com
ATTENDEE;CN="Tim Quigley";ROLE=OPT-PARTICIPANT;RSVP=TRUE:mailto:tquigley@go
	cloudwave.com
ATTENDEE;CN="Mark Middleton";ROLE=OPT-PARTICIPANT;RSVP=TRUE:mailto:mmiddlet
	on@gocloudwave.com
ATTENDEE;CN="Alex Wong";ROLE=OPT-PARTICIPANT;RSVP=TRUE:mailto:awong@gocloud
	wave.com
ATTENDEE;CN="Jim Zenz";ROLE=OPT-PARTICIPANT;RSVP=TRUE:mailto:jzenz@gocloudw
	ave.com
ATTENDEE;CN=CloudWaveatHIMSS;RSVP=TRUE:mailto:HIMSS@parkplace.onmicrosoft.c
	om
ATTENDEE;CN="Mike W. Donahue";ROLE=OPT-PARTICIPANT;RSVP=TRUE:mailto:mwdonah
	ue@gocloudwave.com
CLASS:PUBLIC
CREATED:20240221T182615Z
DESCRIPTION:Protecting Against Ransomware with Immutable Backups\n\n \n\nSp
	eakers:            Jacob Wheeler\, Senior Solution Architect\, CloudWave\n
	\n             Andrew Donaldson\, Associate Product Manager\, CloudWave\n\
	n \n\nYour cybersecurity insurance providers have asked you to make your b
	ackups immutable or air-gapped - or both - and with very good reason. If a
	ttackers can get to your data backups\, they will once again have the leve
	rage in ransomware negotiations. CloudWave's new OpSus Backup with Vault w
	ill protect your data from the latest threats and detect ransomware before
	 an attack begins.\n\n \n\nIf you have questions please contact:\n\nChrist
	ine Mellyn\, Vice President of Marketing\n\ncmellyn@gocloudwave.com\n\n508
	-251-8899\n\n \n
DTEND;TZID="Eastern Standard Time":20240312T121500
DTSTAMP:20240220T153902Z
DTSTART;TZID="Eastern Standard Time":20240312T120000
LAST-MODIFIED:20240221T182615Z
LOCATION:Booth 2781
ORGANIZER;CN=CloudWaveatHIMSS:mailto:HIMSS@parkplace.onmicrosoft.com
PRIORITY:5
SEQUENCE:3
SUMMARY;LANGUAGE=en-us:Protecting Against Ransomware with Immutable Backups
TRANSP:OPAQUE
UID:040000008200E00074C5B7101A82E00800000000E40D3F65095ADA01000000000000000
	0100000004739AA3CB8916445B8E7670B50F7B730
X-ALT-DESC;FMTTYPE=text/html:<html>\n<head>\n\n</head>\n<body>\n<p><strong>
	Protecting Against Ransomware with Immutable Backups</strong></p>\n<p>&nbs
	p\;</p>\n<p><i>Speakers:&nbsp\; &nbsp\; &nbsp\;&nbsp\;&nbsp\;&nbsp\;&nbsp\
	;&nbsp\;&nbsp\; Jacob Wheeler\, Senior Solution Architect\, CloudWave</i><
	/p>\n<p style="margin-left:.5in\;"><i>&nbsp\; &nbsp\; &nbsp\; &nbsp\; &nbs
	p\; &nbsp\; &nbsp\;Andrew Donaldson\, Associate Product Manager\, CloudWav
	e</i></p>\n<p style="margin-left:.5in\;">&nbsp\;</p>\n<p>Your cybersecurit
	y insurance providers have asked you to make your backups immutable or air
	-gapped - or both - and with very good reason. If attackers can get to you
	r data backups\, they will once again have the leverage in ransomware nego
	tiations. CloudWave's\n new OpSus Backup with Vault will protect your data
	 from the latest threats and detect ransomware before an attack begins.</p
	>\n<div>\n<p>&nbsp\;</p>\n<p>If you have questions please contact:</p>\n<p
	>Christine Mellyn\, Vice President of Marketing</p>\n<p>cmellyn@gocloudwav
	e.com</p>\n<p>508-251-8899</p>\n</div>\n<div>&nbsp\;</div>\n</body>\n</htm
	l>\n
X-MICROSOFT-CDO-BUSYSTATUS:BUSY
X-MICROSOFT-CDO-IMPORTANCE:1
X-MS-OLK-APPTLASTSEQUENCE:3
X-MS-OLK-APPTSEQTIME:20240220T153902Z
BEGIN:VALARM
TRIGGER:-PT15M
ACTION:DISPLAY
DESCRIPTION:Reminder
END:VALARM
END:VEVENT
END:VCALENDAR
