BEGIN:VCALENDAR
PRODID:-//Microsoft Corporation//Outlook 16.0 MIMEDIR//EN
VERSION:2.0
METHOD:REQUEST
X-MS-OLK-FORCEINSPECTOROPEN:TRUE
BEGIN:VTIMEZONE
TZID:Eastern Standard Time
BEGIN:STANDARD
DTSTART:16011104T020000
RRULE:FREQ=YEARLY;BYDAY=1SU;BYMONTH=11
TZOFFSETFROM:-0400
TZOFFSETTO:-0500
END:STANDARD
BEGIN:DAYLIGHT
DTSTART:16010311T020000
RRULE:FREQ=YEARLY;BYDAY=2SU;BYMONTH=3
TZOFFSETFROM:-0500
TZOFFSETTO:-0400
END:DAYLIGHT
END:VTIMEZONE
BEGIN:VEVENT
ATTENDEE;CN="Laura Pursley";ROLE=OPT-PARTICIPANT;RSVP=TRUE:mailto:lpursley@
	gocloudwave.com
ATTENDEE;CN="Jim Zenz";ROLE=OPT-PARTICIPANT;RSVP=TRUE:mailto:jzenz@gocloudw
	ave.com
ATTENDEE;CN="Lillian Davis";RSVP=TRUE:mailto:ldavis@gocloudwave.com
ATTENDEE;CN="Christine Mellyn";ROLE=OPT-PARTICIPANT;RSVP=TRUE:mailto:cmelly
	n@gocloudwave.com
ATTENDEE;CN="John Gomez";ROLE=OPT-PARTICIPANT;RSVP=TRUE:mailto:jgomez@goclo
	udwave.com
ATTENDEE;CN="Damian David";ROLE=OPT-PARTICIPANT;RSVP=TRUE:mailto:ddavid@goc
	loudwave.com
ATTENDEE;CN="Robin Gordon";ROLE=OPT-PARTICIPANT;RSVP=TRUE:mailto:rgordon@go
	cloudwave.com
ATTENDEE;CN="Rick Corwon";ROLE=OPT-PARTICIPANT;RSVP=TRUE:mailto:rcorwon@goc
	loudwave.com
ATTENDEE;CN="Tim Quigley";ROLE=OPT-PARTICIPANT;RSVP=TRUE:mailto:tquigley@go
	cloudwave.com
ATTENDEE;CN="Matthew Donahue";ROLE=OPT-PARTICIPANT;RSVP=TRUE:mailto:mdonahu
	e@gocloudwave.com
ATTENDEE;CN="Timothy Champagne";ROLE=OPT-PARTICIPANT;RSVP=TRUE:mailto:tcham
	pagne@gocloudwave.com
ATTENDEE;CN="Bryan Blood";ROLE=OPT-PARTICIPANT;RSVP=TRUE:mailto:bblood@gocl
	oudwave.com
ATTENDEE;CN="Mike W. Donahue";ROLE=OPT-PARTICIPANT;RSVP=TRUE:mailto:mwdonah
	ue@gocloudwave.com
ATTENDEE;CN="Erik Littlejohn";ROLE=OPT-PARTICIPANT;RSVP=TRUE:mailto:elittle
	john@gocloudwave.com
ATTENDEE;CN="Kelli Watson";ROLE=OPT-PARTICIPANT;RSVP=TRUE:mailto:kwatson@go
	cloudwave.com
ATTENDEE;CN=CloudWaveatHIMSS;RSVP=TRUE:mailto:HIMSS@parkplace.onmicrosoft.c
	om
ATTENDEE;CN="John Smith";ROLE=OPT-PARTICIPANT;RSVP=TRUE:mailto:jsmith@goclo
	udwave.com
ATTENDEE;CN="Jenner Barrington-Ward";ROLE=OPT-PARTICIPANT;RSVP=TRUE:mailto:
	jbarrington-ward@gocloudwave.com
ATTENDEE;CN="Ken Brasch";ROLE=OPT-PARTICIPANT;RSVP=TRUE:mailto:kbrasch@gocl
	oudwave.com
ATTENDEE;CN="Mark Middleton";ROLE=OPT-PARTICIPANT;RSVP=TRUE:mailto:mmiddlet
	on@gocloudwave.com
ATTENDEE;CN="Alex Wong";ROLE=OPT-PARTICIPANT;RSVP=TRUE:mailto:awong@gocloud
	wave.com
CLASS:PUBLIC
CREATED:20240221T160656Z
DESCRIPTION:Sustaining Security in Healthcare: The Crucial Role of Infrastr
	ucture in an Optimal Security Program\n\n \n\nSpeaker:  Mike Donahue\, VP\
	, Client Services\, CloudWave\n\n \n\nIn the realm of healthcare cybersecu
	rity\, maintaining a robust security program is paramount to safeguarding 
	patient data and ensuring the uninterrupted delivery of critical healthcar
	e services. This presentation explores the pivotal role of infrastructure 
	in fortifying healthcare facilities' security posture.\n\n \n\nThe session
	 commences by highlighting the unique challenges that healthcare organizat
	ions face in securing sensitive patient information amidst a dynamic and e
	volving threat landscape. Emphasizing the need for proactive measures\, th
	e presentation advocates for a holistic security strategy that places a st
	rong emphasis on the operational sustainability of the foundational infras
	tructure supporting healthcare operations.\n\nInfrastructure has direct im
	pact of infrastructure on the resilience of healthcare facilities. The ses
	sion delves into practical strategies for ensuring the ongoing operational
	 integrity of healthcare infrastructure\, encompassing aspects such as sys
	tem reliability\, disaster recovery planning\, and continuous monitoring. 
	Attendees will gain insights into tailoring these strategies to healthcare
	 settings' specific needs and challenges.\n\nThe presentation emphasizes t
	he importance of mitigating potential risks and disruptions. Through case 
	studies and practical examples\, attendees will learn how proactive measur
	es\, including regular system audits\, capacity planning\, and incident re
	sponse planning\, contribute to the overall resilience of healthcare organ
	izations against emerging threats.\n\nIn conclusion\, this presentation un
	derscores the critical importance of infrastructure as a foundational elem
	ent of an optimal security program for healthcare facilities. By prioritiz
	ing these practices\, healthcare organizations can enhance their security 
	posture\, protect patient data\, and ensure the continued delivery of crit
	ical healthcare services in a secure and sustainable digital environment.\
	n\n \n\nIf you have questions please contact:\n\nChristine Mellyn\, Vice P
	resident of Marketing\n\ncmellyn@gocloudwave.com\n\n508-251-8899\n\n \n
DTEND;TZID="Eastern Standard Time":20240312T131500
DTSTAMP:20240208T210719Z
DTSTART;TZID="Eastern Standard Time":20240312T130000
LAST-MODIFIED:20240221T160656Z
LOCATION:Booth 2781
ORGANIZER;CN=CloudWaveatHIMSS:mailto:HIMSS@parkplace.onmicrosoft.com
PRIORITY:5
RECURRENCE-ID;TZID="Eastern Standard Time":20240312T130000
SEQUENCE:2
SUMMARY;LANGUAGE=en-us:Sustaining Security in Healthcare: The Crucial Role 
	of Infrastructure in an Optimal Security Program
TRANSP:OPAQUE
UID:040000008200E00074C5B7101A82E00800000000E817D9B2A35ADA01000000000000000
	0100000006908D6F01A61B84D800FC0301553D0F3
X-ALT-DESC;FMTTYPE=text/html:<html>\n<head>\n\n</head>\n<body>\n<p><strong>
	Sustaining Security in Healthcare: The Crucial Role of Infrastructure in a
	n Optimal Security Program</strong></p>\n<p>&nbsp\;</p>\n<p><i>Speaker:&nb
	sp\; Mike Donahue\, VP\, Client Services\, CloudWave</i></p>\n<p>&nbsp\;</
	p>\n<p>In the realm of healthcare cybersecurity\, maintaining a robust sec
	urity program is paramount to safeguarding patient data and ensuring the u
	ninterrupted delivery of critical healthcare services. This presentation e
	xplores the pivotal role of infrastructure\n in fortifying healthcare faci
	lities' security posture.</p>\n<p>&nbsp\;</p>\n<p>The session commences by
	 highlighting the unique challenges that healthcare organizations face in 
	securing sensitive patient information amidst a dynamic and evolving threa
	t landscape. Emphasizing the need for proactive measures\, the presentatio
	n advocates\n for a holistic security strategy that places a strong emphas
	is on the operational sustainability of the foundational infrastructure su
	pporting healthcare operations.</p>\n<p>Infrastructure has direct impact o
	f infrastructure on the resilience of healthcare facilities. The session d
	elves into practical strategies for ensuring the ongoing operational integ
	rity of healthcare infrastructure\, encompassing aspects such as system re
	liability\,\n disaster recovery planning\, and continuous monitoring. Atte
	ndees will gain insights into tailoring these strategies to healthcare set
	tings' specific needs and challenges.</p>\n<p>The presentation emphasizes 
	the importance of mitigating potential risks and disruptions. Through case
	 studies and practical examples\, attendees will learn how proactive measu
	res\, including regular system audits\, capacity planning\, and incident r
	esponse\n planning\, contribute to the overall resilience of healthcare or
	ganizations against emerging threats.</p>\n<p>In conclusion\, this present
	ation underscores the critical importance of infrastructure as a foundatio
	nal element of an optimal security program for healthcare facilities. By p
	rioritizing these practices\, healthcare organizations can enhance their s
	ecurity\n posture\, protect patient data\, and ensure the continued delive
	ry of critical healthcare services in a secure and sustainable digital env
	ironment.</p>\n<div>\n<p>&nbsp\;</p>\n<p>If you have questions please cont
	act:</p>\n<p>Christine Mellyn\, Vice President of Marketing</p>\n<p>cmelly
	n@gocloudwave.com</p>\n<p>508-251-8899</p>\n</div>\n<div>&nbsp\;</div>\n</
	body>\n</html>\n
X-MICROSOFT-CDO-BUSYSTATUS:BUSY
X-MICROSOFT-CDO-IMPORTANCE:1
X-MS-OLK-APPTLASTSEQUENCE:6
X-MS-OLK-APPTSEQTIME:20240208T210719Z
BEGIN:VALARM
TRIGGER:-PT15M
ACTION:DISPLAY
DESCRIPTION:Reminder
END:VALARM
END:VEVENT
END:VCALENDAR
