BEGIN:VCALENDAR
PRODID:-//Microsoft Corporation//Outlook 16.0 MIMEDIR//EN
VERSION:2.0
METHOD:REQUEST
X-MS-OLK-FORCEINSPECTOROPEN:TRUE
BEGIN:VTIMEZONE
TZID:Eastern Standard Time
BEGIN:STANDARD
DTSTART:16011104T020000
RRULE:FREQ=YEARLY;BYDAY=1SU;BYMONTH=11
TZOFFSETFROM:-0400
TZOFFSETTO:-0500
END:STANDARD
BEGIN:DAYLIGHT
DTSTART:16010311T020000
RRULE:FREQ=YEARLY;BYDAY=2SU;BYMONTH=3
TZOFFSETFROM:-0500
TZOFFSETTO:-0400
END:DAYLIGHT
END:VTIMEZONE
BEGIN:VEVENT
ATTENDEE;CN="Lillian Davis";RSVP=TRUE:mailto:ldavis@gocloudwave.com
ATTENDEE;CN="Christine Mellyn";ROLE=OPT-PARTICIPANT;RSVP=TRUE:mailto:cmelly
	n@gocloudwave.com
ATTENDEE;CN="Matthew Donahue";ROLE=OPT-PARTICIPANT;RSVP=TRUE:mailto:mdonahu
	e@gocloudwave.com
ATTENDEE;CN="Timothy Champagne";ROLE=OPT-PARTICIPANT;RSVP=TRUE:mailto:tcham
	pagne@gocloudwave.com
ATTENDEE;CN="Mike W. Donahue";ROLE=OPT-PARTICIPANT;RSVP=TRUE:mailto:mwdonah
	ue@gocloudwave.com
ATTENDEE;CN="Amanda Lyons";ROLE=OPT-PARTICIPANT;RSVP=TRUE:mailto:alyons@goc
	loudwave.com
ATTENDEE;CN=CloudWaveatHIMSS;RSVP=TRUE:mailto:HIMSS@parkplace.onmicrosoft.c
	om
ATTENDEE;CN="Mark Middleton";ROLE=OPT-PARTICIPANT;RSVP=TRUE:mailto:mmiddlet
	on@gocloudwave.com
ATTENDEE;CN="Laura Pursley";ROLE=OPT-PARTICIPANT;RSVP=TRUE:mailto:lpursley@
	gocloudwave.com
ATTENDEE;CN="Erik Littlejohn";ROLE=OPT-PARTICIPANT;RSVP=TRUE:mailto:elittle
	john@gocloudwave.com
ATTENDEE;CN="Jenner Barrington-Ward";ROLE=OPT-PARTICIPANT;RSVP=TRUE:mailto:
	jbarrington-ward@gocloudwave.com
CLASS:PUBLIC
CREATED:20240221T183057Z
DESCRIPTION:Top Three Ways to Advance Your Cybersecurity Posture\n\n \n\nSp
	eaker:  Kelli Watson\, VP\, Client Services\, CloudWave\n\n \n\nCyber thre
	ats are advancing rapidly\, yet the ability of healthcare organizations to
	 prepare and respond is still a challenge for most hospitals. Most healthc
	are organizations are still working from outdated playbooks and may not ha
	ve the right tools\, processes\, or procedures to handle a significant cyb
	er incident\, should it happen.\n\nThis session will highlight three main 
	areas where healthcare organizations should focus to advance their cyberse
	curity posture significantly.\n\nIn this session\, you’ll learn the impo
	rtance of:\n\n•             Engaging your entire organization in Cyberse
	curity\n\n•             Defining a medical device cybersecurity plan tha
	t is different from your IT cybersecurity plan\n\n•             Moderniz
	ing your incident response program for faster response\n\n \n\nIf you have
	 questions\, please contact:\n\nChristine Mellyn\, Vice President of Marke
	ting\n\ncmellyn@gocloudwave.com\n\n508-251-8899\n\n \n\n \n
DTEND;TZID="Eastern Standard Time":20240313T111500
DTSTAMP:20240213T202548Z
DTSTART;TZID="Eastern Standard Time":20240313T110000
LAST-MODIFIED:20240221T183057Z
LOCATION:Booth 2781
ORGANIZER;CN=CloudWaveatHIMSS:mailto:HIMSS@parkplace.onmicrosoft.com
PRIORITY:5
SEQUENCE:1
SUMMARY;LANGUAGE=en-us:Top Three Ways to Advance Your Cybersecurity Posture
TRANSP:OPAQUE
UID:040000008200E00074C5B7101A82E0080000000054879B96A95EDA01000000000000000
	010000000146DD3F46FFB584A8424C205476EF5D3
X-ALT-DESC;FMTTYPE=text/html:<html>\n<head>\n\n</head>\n<body>\n<p><strong>
	Top Three Ways to Advance Your Cybersecurity Posture</strong></p>\n<p>&nbs
	p\;</p>\n<p><i>Speaker:&nbsp\; Kelli Watson\, VP\, Client Services\, Cloud
	Wave</i></p>\n<p>&nbsp\;</p>\n<p><span style="font-size:inherit\;">Cyber t
	hreats are advancing rapidly\, yet the ability of healthcare organizations
	 to prepare and respond is still a challenge for most hospitals. Most heal
	thcare organizations are still working from outdated playbooks and\n may n
	ot have the right tools\, processes\, or procedures to handle a significan
	t cyber incident\, should it happen.</span></p>\n<p><span style="font-size
	:inherit\;">This session will highlight three main areas where healthcare 
	organizations should focus to advance their cybersecurity posture signific
	antly.</span></p>\n<p><span style="font-size:inherit\;">In this session\, 
	you’ll learn the importance of:</span></p>\n<p><span style="font-size:in
	herit\;">•&nbsp\;&nbsp\;&nbsp\;&nbsp\;&nbsp\;&nbsp\;&nbsp\;&nbsp\;&nbsp\
	;&nbsp\;&nbsp\;&nbsp\; Engaging your entire organization in Cybersecurity<
	/span></p>\n<p><span style="font-size:inherit\;">•&nbsp\;&nbsp\;&nbsp\;&
	nbsp\;&nbsp\;&nbsp\;&nbsp\;&nbsp\;&nbsp\;&nbsp\;&nbsp\;&nbsp\; Defining a 
	medical device cybersecurity plan that is different from your IT cybersecu
	rity plan</span></p>\n<p><span style="font-size:inherit\;">•&nbsp\;&nbsp
	\;&nbsp\;&nbsp\;&nbsp\;&nbsp\;&nbsp\;&nbsp\;&nbsp\;&nbsp\;&nbsp\;&nbsp\; M
	odernizing your incident response program for faster response</span></p>\n
	<p>&nbsp\;</p>\n<p>If you have questions\, please contact:</p>\n<p style="
	margin-left:0\;">Christine Mellyn\, Vice President of Marketing</p>\n<p st
	yle="margin-left:0\;">cmellyn@gocloudwave.com</p>\n<p>508-251-8899</p>\n<d
	iv>\n<p>&nbsp\;</p>\n</div>\n<div>&nbsp\;</div>\n</body>\n</html>\n
X-MICROSOFT-CDO-BUSYSTATUS:BUSY
X-MICROSOFT-CDO-IMPORTANCE:1
X-MS-OLK-APPTLASTSEQUENCE:1
X-MS-OLK-APPTSEQTIME:20240213T202548Z
BEGIN:VALARM
TRIGGER:-PT15M
ACTION:DISPLAY
DESCRIPTION:Reminder
END:VALARM
END:VEVENT
END:VCALENDAR
